BEGIN:VCALENDAR
VERSION:2.0
PRODID:-//Bördepark - ECPv6.15.20//NONSGML v1.0//EN
CALSCALE:GREGORIAN
METHOD:PUBLISH
X-ORIGINAL-URL:https://www.boerdepark.de
X-WR-CALDESC:Veranstaltungen für Bördepark
REFRESH-INTERVAL;VALUE=DURATION:PT1H
X-Robots-Tag:noindex
X-PUBLISHED-TTL:PT1H
BEGIN:VTIMEZONE
TZID:UTC
BEGIN:STANDARD
TZOFFSETFROM:+0000
TZOFFSETTO:+0000
TZNAME:UTC
DTSTART:20250101T000000
END:STANDARD
END:VTIMEZONE
BEGIN:VEVENT
DTSTART;TZID=UTC:20260330T110000
DTEND;TZID=UTC:20260330T170000
DTSTAMP:20260424T104433
CREATED:20260310T104056Z
LAST-MODIFIED:20260310T131415Z
UID:1178-1774868400-1774890000@www.boerdepark.de
SUMMARY:Osteraktion
DESCRIPTION:Zwei Tage voller Spaß\, Kreativität und Osterzauber für die ganze Familie \n\n\n\nDer Börde Park lädt herzlich zur großen Osteraktion ein. Freut euch auf ein buntes Programm\, das kleine und große Besucher begeistert und in frühlingshafte Stimmung versetzt. \n\n\n\nOsterhase Walkact\n\n\n\nUnser fröhlicher Osterhase ist im Center unterwegs\, verteilt gute Laune und steht für tolle Erinnerungsfotos bereit. \n\n\n\nBallonkünstler\n\n\n\nErlebt faszinierende Ballonfiguren – kunstvoll\, bunt und natürlich zum Mitnehmen. \n\n\n\nPopcorn-Station\n\n\n\nFrisch\, duftend und kostenlos für unsere kleinen Gäste. \n\n\n\nKinderschminken & Tattoos\n\n\n\nOb Schmetterling\, Superheld oder Osterhäschen – hier verwandeln sich Kinder in ihre Lieblingsfiguren. \n\n\n\nBastelstraße\n\n\n\nKreative Osterideen zum Selbermachen und Mitnehmen. Perfekt\, um kleine Kunstwerke für Zuhause zu gestalten. \n\n\n\nWir freuen uns auf zwei fröhliche\, kreative und unvergessliche Ostertage mit euch im Börde Park. Kommt vorbei und feiert mit uns den Frühling!
URL:https://www.boerdepark.de/event/osteraktion/
ATTACH;FMTTYPE=image/png:https://www.boerdepark.de/wp-content/uploads/2026/03/2026-03-10-11_39_30-.png
END:VEVENT
END:VCALENDAR